BEGIN:VCALENDAR
VERSION:2.0
PRODID:-//eventon.com NONSGML v1.0//EN
CALSCALE:GREGORIAN
METHOD:PUBLISH
BEGIN:VEVENT
UID:69e8a2918d7ba
DTSTAMP:20260422T102729Z
DTSTART:20250301T140000Z
DTEND:20250302T220000Z
LOCATION:C. Scott Driver Recreation Area and Facility 10100 West Highway 78 Okeechobee FL 34972
SUMMARY:Bass Bash 2025
DESCRIPTION:Bassmaster Elite Series is Coming to Okeechobee! Join us for Ba
 ss Bash on March 1st &amp; 2nd\,  2025 at C. Scott Driver Park (10100 Hwy 7
 8 W) as we celebrate and welcome them back! This family-friendly event feat
 ures: &nbsp; Live daily weigh-ins at 3:40 PM &nbsp; Food &amp; art vendors[
 ..]\nhttps://visitokeechobeecounty.com/events/bass-bash-2025-2/
URL:https://visitokeechobeecounty.com/events/bass-bash-2025-2/
END:VEVENT
END:VCALENDAR