BEGIN:VCALENDAR
VERSION:2.0
PRODID:-//eventon.com NONSGML v1.0//EN
CALSCALE:GREGORIAN
METHOD:PUBLISH
BEGIN:VEVENT
UID:69e88f81a65cc
DTSTAMP:20260422T090609Z
DTSTART:20250524T220000Z
DTEND:20250525T020000Z
LOCATION:Okeechobee KOA Resort 4276 US-441\,  Okeechobee\,  Fl. 34974
SUMMARY:Blackbird Anthem
DESCRIPTION:Join us during Memorial Day Weekend on Saturday\,  May 24th\,  
 at 6:00 PM for a Red\,  White and Blue BBQ to support Okeechobee Veterans a
 nd help us bring our city Huey back to Veterans Park! https://www.facebook.
 com/events/okeechobee-koa-resort/red-white-and-blue-bbq/1350848486092462/\n
 https://visitokeechobeecounty.com/events/blackbird-anthem/
URL:https://visitokeechobeecounty.com/events/blackbird-anthem/
END:VEVENT
END:VCALENDAR