BEGIN:VCALENDAR
VERSION:2.0
PRODID:-//eventon.com NONSGML v1.0//EN
CALSCALE:GREGORIAN
METHOD:PUBLISH
BEGIN:VEVENT
UID:69eca49440522
DTSTAMP:20260425T112508Z
DTSTART:20260425T230000Z
DTEND:20260426T020000Z
LOCATION:Parrott Island Outdoor Venue 1001 South Parrott Ave\,  Okeechobee\,  FL\,  United States\,  Florida
SUMMARY:Chemistry Rocks-Awesome 80's Night!
DESCRIPTION:Chemistry is back at the awesome Parrott Island Outdoor Venue\,
   so why not join us for some totally tubular 80s music and some great guil
 ty pleasure songs to celebrate! Come to dance-a-long\,  sing-a-long &amp; d
 rink-a-long and enjoy a band like no other! &#8212;&#8212;&#8212;&#8211; Ch
 emistry is the premier synth-pop-rock tribute to[..]\nhttps://visitokeechob
 eecounty.com/events/chemistry-rocks-awesome-80s-night/
URL:https://visitokeechobeecounty.com/events/chemistry-rocks-awesome-80s-night/
END:VEVENT
END:VCALENDAR